BEGIN:VCALENDAR
VERSION:2.0
METHOD:PUBLISH
PRODID:SimpleCalendar
X-WR-TIMEZONE:Europe/Paris
BEGIN:VEVENT
UID:120@simplecalendar-Le News dei Motocappottati
CATEGORIES:Moto GP
CLASS:PUBLIC
DTSTAMP:20140411T120605Z
CREATED:20140411T120605Z
SUMMARY:Gran Premio del Qatar Doha/Losail
DESCRIPTION:Il gran premio del Qatar, a Losail apre i battenti nel 2004, costruito in  poco più di un anno il circuito misura 5,38km e presenta un rettilineo d i 1068 metri di lunghezza. Losail è un circuito impegnativo, sia per le  condizioni climatiche ( anche per questo si corre in notturna ) , per la s tessa morfologia del circuito e sopratutto per il manto stradale che viene  continuamente sporcato dalla sabbia portata dal vicino deserto.Proprio pe r rimediare a questa problematica tutto il circuito è circondato da un fi nto manto erboso. Ordine d'arrivo:
LOCATION:Doha/Losail
LAST-MODIFIED:20131208T163334Z
TRANSP:OPAQUE
DTSTART;VALUE=DATE:20140323
DTEND;VALUE=DATE:20140323
END:VEVENT
BEGIN:VEVENT
UID:121@simplecalendar-Le News dei Motocappottati
CATEGORIES:Moto GP
CLASS:PUBLIC
DTSTAMP:20140411T120605Z
CREATED:20140411T120605Z
SUMMARY:Gran premio Austin Texas U.S.A
DESCRIPTION:Austin Texas U.S.A Il circuito presenta un rettilineo di media distanza  e una serie di  curve in successione che portano al tornante per il rettil ineo più  lungo. Poi ci sono altre curve (che fanno pensare alle ultime c urve del  circuito di Hockenheim, in Germania) che portano alle ultime tre : un  curvone e due curve di 100 e 80 gradi. Ordine d'arrivo:
LOCATION:Austin
LAST-MODIFIED:20131208T163458Z
TRANSP:OPAQUE
DTSTART;VALUE=DATE:20140413
DTEND;VALUE=DATE:20140413
END:VEVENT
BEGIN:VEVENT
UID:122@simplecalendar-Le News dei Motocappottati
CATEGORIES:Moto GP
CLASS:PUBLIC
DTSTAMP:20140411T120605Z
CREATED:20140411T120605Z
SUMMARY:Termas de Rio Hondo Argentina
DESCRIPTION:Termas de Rio Hondo Argentina L'autodromo di Termas de Rio Hondo è un a utodromo situato a Termas de Río Hondo, Argentina. Costruito nel 2007, ha  ospitato le classi TC2000, Turismo Carretera e Formula Renault. La pista  era stata pianificata anche per l'uso nel Campionato mondiale di motocicli smo del 2013, per il Gran Premio motociclistico d'Argentina poi posticipat o al 2014 per questioni politiche internazionali tra Repsol YPF e il Gover no Argentino.Dopo una completa riprogettazione e ricostruzione da parte de l progettista italiano Jarno Zaffelli, nel 2013 il circuito ospiterà i te st ufficiali della MotoGP e il round 15 e 16 del World Touring Car Champio nship, avendo ricevuto le omologhe della Federazione Internazionale di Mot ociclismo e della Federazione Internazionale dell'Automobile nel Maggio 20 13. Ordine d'arrivo:
LOCATION:Termas de Río Hondo Argentina
LAST-MODIFIED:20131208T163832Z
TRANSP:OPAQUE
DTSTART;VALUE=DATE:20140427
DTEND;VALUE=DATE:20140427
END:VEVENT
BEGIN:VEVENT
UID:123@simplecalendar-Le News dei Motocappottati
CATEGORIES:Moto GP
CLASS:PUBLIC
DTSTAMP:20140411T120605Z
CREATED:20140411T120605Z
SUMMARY:Gran Premio di Spagna Jerez de la Frontera
DESCRIPTION:Jerez de la Frontera Spagna Una pista che a detta dei piloti non present a particolari problemi di setting e la differenza è data dalla capacità  di guida e la scelta della corretta traiettoria nei continui cambi di dire zione che si snodano su tutto il circuito. Lungo 4423 metri prenta 13 cur ve in prevalenza a destra ( 8 ) ed un breve un rettilinio di circa 600 m. Ordine d'arrivo:
LOCATION:Jerez
LAST-MODIFIED:20131208T164820Z
TRANSP:OPAQUE
DTSTART;VALUE=DATE:20140504
DTEND;VALUE=DATE:20140504
END:VEVENT
BEGIN:VEVENT
UID:124@simplecalendar-Le News dei Motocappottati
CATEGORIES:Moto GP
CLASS:PUBLIC
DTSTAMP:20140411T120605Z
CREATED:20140411T120605Z
SUMMARY:Gran premio di Francia Le Mans
DESCRIPTION:Le Mans Francia Conosciuto ai più per la rinomata “24 ore” il circu ito di Le Mans è situato nella regione della Sarthe e, dal 2000, è il pe rfetto scenario del Gran Premio di Francia della MotoGp. Il tracciato su  cui si svolge la Motogp, il circuito Bugatti, è parzialmente ricavato dal  circuito originale di Le Mans, che con un estensione superiore ai 13 km   tra i più grandi al mondo. Ordine d'arrivo:
LOCATION:Le Mans
LAST-MODIFIED:20131208T164947Z
TRANSP:OPAQUE
DTSTART;VALUE=DATE:20140518
DTEND;VALUE=DATE:20140518
END:VEVENT
BEGIN:VEVENT
UID:125@simplecalendar-Le News dei Motocappottati
CATEGORIES:Moto GP
CLASS:PUBLIC
DTSTAMP:20140411T120605Z
CREATED:20140411T120605Z
SUMMARY:Gran premio d'Italia Mugello
DESCRIPTION:Gran Premio del Mugello Italia Il Mugello presenta una lunghezza comples siva di 5245 metri e una larghezza di 14 metri con 9 curve a destra e 6 a  sinistra, il rettilineo più lungo è di 1141 metri. Ecco come arrivare a ll'autodromo del Mugello Ordine di Arrivo:
LOCATION:Mugello (FI)
LAST-MODIFIED:20131208T165210Z
TRANSP:OPAQUE
DTSTART;VALUE=DATE:20140601
DTEND;VALUE=DATE:20140601
END:VEVENT
BEGIN:VEVENT
UID:126@simplecalendar-Le News dei Motocappottati
CATEGORIES:Moto GP
CLASS:PUBLIC
DTSTAMP:20140411T120605Z
CREATED:20140411T120605Z
SUMMARY:Gran premio di Catalogna Barcellona
DESCRIPTION:Catalunya Spagna Il circuito catalano di Montmelò una lunghezza di 4727  metri e prevede un lunghissimo rettilineo principale alternato a curve a  gomito dove i tre là davanti sapranno sicuramente dare spettacolo. Ord ine d'arrivo:
LOCATION:Barcellona
LAST-MODIFIED:20131208T165500Z
TRANSP:OPAQUE
DTSTART;VALUE=DATE:20140615
DTEND;VALUE=DATE:20140615
END:VEVENT
BEGIN:VEVENT
UID:127@simplecalendar-Le News dei Motocappottati
CATEGORIES:Moto GP
CLASS:PUBLIC
DTSTAMP:20140411T120605Z
CREATED:20140411T120605Z
SUMMARY:Gran premio d'Olanda Assen
DESCRIPTION:Assen Olanda Assen, a mio avviso e non solo il più bel circuito del cir co della GP1.La pista ha una lunghezza di 4.555 metri, con il rettilineo p iù lungo che sfiora il kilometro. Il tracciato è caratterizzato da una c arreggiata molto stretta, molti curvoni stretti e veloci. Ordine d'arri vo:
LOCATION:Assen
LAST-MODIFIED:20131208T165559Z
TRANSP:OPAQUE
DTSTART;VALUE=DATE:20140628
DTEND;VALUE=DATE:20140628
END:VEVENT
BEGIN:VEVENT
UID:128@simplecalendar-Le News dei Motocappottati
CATEGORIES:Moto GP
CLASS:PUBLIC
DTSTAMP:20140411T120605Z
CREATED:20140411T120605Z
SUMMARY:Gran premio di Germania Sachsenring
DESCRIPTION:Sachsenring Germania Dopo le modifiche il Sachsenring diventa il circuit o più breve e stretto del motomondiale, misura infatti solo 3.671 mt di l unghezza per 10 mt di larghezza con un rettilineo di 780 mt ed una forte p revalenza di curve a sinistra, ben 10, rispetto alle 4 a destra. Ordine  d'arrivo:
LOCATION:Sachsenring
LAST-MODIFIED:20131208T165729Z
TRANSP:OPAQUE
DTSTART;VALUE=DATE:20140713
DTEND;VALUE=DATE:20140713
END:VEVENT
BEGIN:VEVENT
UID:129@simplecalendar-Le News dei Motocappottati
CATEGORIES:Moto GP
CLASS:PUBLIC
DTSTAMP:20140411T120605Z
CREATED:20140411T120605Z
SUMMARY:Gran premio degli Stati Uniti Indianapolis
DESCRIPTION:Indianapolis U.S.A tracciato di Indianapolis presenta una lunghezza di 4 216 mt con una prevalenza di curve sinistra, ben 10 contro le 6 a destra;  presenta un rettilineo mediamente lungo di circa 644 metri. Ordine d'ar rivo:
LOCATION:Indianapolis
LAST-MODIFIED:20131208T165915Z
TRANSP:OPAQUE
DTSTART;VALUE=DATE:20140810
DTEND;VALUE=DATE:20140810
END:VEVENT
BEGIN:VEVENT
UID:130@simplecalendar-Le News dei Motocappottati
CATEGORIES:Moto GP
CLASS:PUBLIC
DTSTAMP:20140411T120605Z
CREATED:20140411T120605Z
SUMMARY:Gran premio della Repubblica Ceca Brno
DESCRIPTION:Brno Repubblica Ceca è un circuito tra i più belli di tutto il motomon diale, presenta 8 curve a destra e 6 a sinistra con un rettilineo di 636 m  per una lunghezza totale di 5403 m. Ordine d'arrivo:
LOCATION:Brno
LAST-MODIFIED:20131208T170048Z
TRANSP:OPAQUE
DTSTART;VALUE=DATE:20140817
DTEND;VALUE=DATE:20140817
END:VEVENT
BEGIN:VEVENT
UID:131@simplecalendar-Le News dei Motocappottati
CATEGORIES:Moto GP
CLASS:PUBLIC
DTSTAMP:20140411T120605Z
CREATED:20140411T120605Z
SUMMARY:Gran premio di Gran Bretagna Silverstone
DESCRIPTION:Silverstone è un nome che già da solo evoca tutta la storia di tutti i  comparti motorisitici, ricavato da un vecchio aeroporto Ordine d'arriv o:
LOCATION:Silverstone
LAST-MODIFIED:20131208T170222Z
TRANSP:OPAQUE
DTSTART;VALUE=DATE:20140831
DTEND;VALUE=DATE:20140831
END:VEVENT
BEGIN:VEVENT
UID:132@simplecalendar-Le News dei Motocappottati
CATEGORIES:Moto GP
CLASS:PUBLIC
DTSTAMP:20140411T120605Z
CREATED:20140411T120605Z
SUMMARY:Gran premio di San Marino & Riviera di Rimini M Simoncelli
DESCRIPTION:San Marino & Riviera di Rimini - Misano Marco Simoncelli Misano è l a pista di casa di praticamente metà dei piloti italiani , misura 4180 me tri per una larghezza di 14, con 8 curve a destra e 5 a sinistra. Ordin e d'arrivo:
LOCATION:Misano
LAST-MODIFIED:20131208T170823Z
TRANSP:OPAQUE
DTSTART;VALUE=DATE:20140914
DTEND;VALUE=DATE:20140914
END:VEVENT
BEGIN:VEVENT
UID:133@simplecalendar-Le News dei Motocappottati
CATEGORIES:Moto GP
CLASS:PUBLIC
DTSTAMP:20140411T120605Z
CREATED:20140411T120605Z
SUMMARY:Gran premio d'Aragona Motorland Aragón
DESCRIPTION:Motorland Aragon Il circuito presenta una lunghezza di 5.345m e una larg hezza che va dai  12 ai 15 metri. Occupa una superficie de 1.320.00m2 e co nta con un  rettilineo principale di 1.726m che lo converte in una referen za  internazionale per la realizzazione di prove di aerodinamica. Nella  v ariante utilizzata questo fine settimana per la MotoGP, la variante F  di  5.070 m., il rettilineo più lungo è di 1.326 m, anche se il  rettilineo  del traguardo  presenta solo 630 m e una prima curva di 90  gradi. Ordi ne d'arrivo:
LOCATION:Aragon
LAST-MODIFIED:20131208T170850Z
TRANSP:OPAQUE
DTSTART;VALUE=DATE:20140921
DTEND;VALUE=DATE:20140921
END:VEVENT
BEGIN:VEVENT
UID:134@simplecalendar-Le News dei Motocappottati
CATEGORIES:Moto GP
CLASS:PUBLIC
DTSTAMP:20140411T120605Z
CREATED:20140411T120605Z
SUMMARY:Gran premio dell Brasile Circuito di Jacarepaguà
DESCRIPTION:Il Gran Premio motociclistico del Brasile è stato un appuntamento del mo tomondiale che si è svolto dal 1987 al 1989, nel 1992, dal 1995 al 1997 e  dal 1999 fino al 2004. Nelle prime tre edizioni si è svolto a Goiânia,  nella quarta sul Circuito di Interlagos e nelle altre sul Circuito di Jaca repaguà.Al di là delle gare valide per i campionati mondiali, già prece dentemente si era svolta una competizione conosciuta come GP del Brasile;  organizzata in occasione del 400º anniversario della scoperta del Brasile , nel 1954, vennero invitati i più importanti piloti, anche europei, alle ttandoli con promesse di consistenti premi. Al momento della competizione  si scoprì però che le promesse non erano state mantenute, cosa che, oltr e che causare la mancata effettuazione di una delle gare in programma, cau sò anche ripercussioni sulla Federazione Motociclistica Brasiliana che ve nne bandita dal consesso internazionale per vari anni.La prima edizione ti tolata della corsa ebbe quindi luogo solo nel 1987 in un circuito situato  nelle vicinanze di Goiânia, città interna del Brasile. Dopo le prime tre  edizioni ed un'interruzione di due anni, la prova venne spostata sul mare , dapprima nelle vicinanze di San Paolo sul Circuito di Interlagos ed in s eguito in quelle di Rio de Janeiro sul Circuito di Jacarepaguà. Ordine  d'arrivo:
LOCATION:Brasile
LAST-MODIFIED:20131208T172203Z
TRANSP:OPAQUE
DTSTART;VALUE=DATE:20140928
DTEND;VALUE=DATE:20140928
END:VEVENT
BEGIN:VEVENT
UID:135@simplecalendar-Le News dei Motocappottati
CATEGORIES:Moto GP
CLASS:PUBLIC
DTSTAMP:20140411T120605Z
CREATED:20140411T120605Z
SUMMARY:Gran premio della Malesia Sepang
DESCRIPTION:Sepang è un circuito molto recente, costruito nel 1999 con le tecnologie  più all’avanguardia è tutt’ora considerato un modello di riferiment o per tutti i nuovi circuiti. Le tribune ampie e funzionali, aree di servi zio tra le più curate rendono il circuito Malesiano tra i più belli del  moto mondiale.Lungo 5.548 metri con 10 curve a destra e 5 a sinistra, la c aratteristica di Sepang sono i due rettilinei molto larghi uniti tra di lo ro da un lentissimo tornante nel quale i piloti più abili con le staccate  possono tentare di sorpassare. Ordine d'arrivo:
LOCATION:Sepang
LAST-MODIFIED:20131208T172252Z
TRANSP:OPAQUE
DTSTART;VALUE=DATE:20141012
DTEND;VALUE=DATE:20141012
END:VEVENT
BEGIN:VEVENT
UID:136@simplecalendar-Le News dei Motocappottati
CATEGORIES:Moto GP
CLASS:PUBLIC
DTSTAMP:20140411T120606Z
CREATED:20140411T120606Z
SUMMARY:Gran Premio del Giappone Motegi
DESCRIPTION:Motegi , in Giappone la casa di ben quattro produttori di Moto al mondo H onda, Kawasaky,Yamaha, e Suzuky. È denominato ufficialmente Twin Ring Mo tegi poiché all'interno della stessa struttura ospita due circuiti divers i, un ovale da 2.493 m e un percorso stradale da 4.801 m con 3 differenti  layout. Ordine d'arrivo:
LOCATION:Motegi
LAST-MODIFIED:20131208T172420Z
TRANSP:OPAQUE
DTSTART;VALUE=DATE:20141019
DTEND;VALUE=DATE:20141019
END:VEVENT
BEGIN:VEVENT
UID:137@simplecalendar-Le News dei Motocappottati
CATEGORIES:Moto GP
CLASS:PUBLIC
DTSTAMP:20140411T120606Z
CREATED:20140411T120606Z
SUMMARY:Gran premio d'Australia Phillip Island
DESCRIPTION:Costruito nel 1956 il circuito di Phillip Island è situato nella regione  di Victoria in Australia e dal 1997 è lo scenario di splendide gare di m otociclismo. Il circuito è splendido, una serpentina di curve veloci e d i raggio molto ampio spezzate solamente da due tornanti che rappresentano  i punti perfetti per effettuare sorpassi. Lungo 4.448 mt e largo 13 mt, p resenta 5 curve a destra e 7 a sinistra ed il suo rettilineo principale è  di 900 mt in discesa, caratteristica che permette di raggiungere velocit  molto elevate. Ordine d'arrivo:
LOCATION:Phillip Island
LAST-MODIFIED:20131208T172600Z
TRANSP:OPAQUE
DTSTART;VALUE=DATE:20141026
DTEND;VALUE=DATE:20141026
END:VEVENT
BEGIN:VEVENT
UID:138@simplecalendar-Le News dei Motocappottati
CATEGORIES:Moto GP
CLASS:PUBLIC
DTSTAMP:20140411T120606Z
CREATED:20140411T120606Z
SUMMARY:Gran premio di Valencia
DESCRIPTION:Il circuito di Valencia misura 4.005 Km con un rettilineo di 876 mt e una  netta prevalenza di curve a sinistra, ben 9 rispetto alle 5 opposte, è t ra i cinque circuiti che si percorrono in senso antiorario. Ordine d'ar rivo:
LOCATION:Ricardo Tormo
LAST-MODIFIED:20131208T172741Z
TRANSP:OPAQUE
DTSTART;VALUE=DATE:20141109
DTEND;VALUE=DATE:20141109
END:VEVENT
END:VCALENDAR