
BEGIN:VCALENDAR
VERSION:2.0
METHOD:PUBLISH
PRODID:SimpleCalendar
BEGIN:VEVENT
UID:@simplecalendar-Le News dei Motocappottati
CATEGORIES:Moto GP Archiviate
CLASS:PUBLIC
DTSTAMP:20140411T215135Z
CREATED:20140411T215135Z
SUMMARY:Gran Premio del Qatar
DESCRIPTION:Gran Premio del Qatar Losail /
LOCATION:Losail
TRANSP:OPAQUE
DTSTART;VALUE=DATE:20100411
DTEND;VALUE=DATE:20100411
END:VEVENT
END:VCALENDAR