
BEGIN:VCALENDAR
VERSION:2.0
METHOD:PUBLISH
PRODID:SimpleCalendar
BEGIN:VEVENT
UID:@simplecalendar-Le News dei Motocappottati
CATEGORIES:Moto GP Archiviate
CLASS:PUBLIC
DTSTAMP:20140411T215222Z
CREATED:20140411T215222Z
SUMMARY:Gran premio di Germania
DESCRIPTION:Gran premio di Germania Sachsenring /
LOCATION:Sachsenring
TRANSP:OPAQUE
DTSTART;VALUE=DATE:20100718
DTEND;VALUE=DATE:20100718
END:VEVENT
END:VCALENDAR