
BEGIN:VCALENDAR
VERSION:2.0
METHOD:PUBLISH
PRODID:SimpleCalendar
BEGIN:VEVENT
UID:@simplecalendar-Le News dei Motocappottati
CATEGORIES:Moto GP Archiviate
CLASS:PUBLIC
DTSTAMP:20140411T215016Z
CREATED:20140411T215016Z
SUMMARY:Gran premio degli Stati Uniti
DESCRIPTION:Gran premio degli Stati Uniti Laguna Seca /
LOCATION:Laguna Seca
TRANSP:OPAQUE
DTSTART;VALUE=DATE:20100725
DTEND;VALUE=DATE:20100725
END:VEVENT
END:VCALENDAR