
BEGIN:VCALENDAR
VERSION:2.0
METHOD:PUBLISH
PRODID:SimpleCalendar
BEGIN:VEVENT
UID:@simplecalendar-Le News dei Motocappottati
CATEGORIES:Moto GP Archiviate
CLASS:PUBLIC
DTSTAMP:20140411T214930Z
CREATED:20140411T214930Z
SUMMARY:Gran Premio del Giappone
DESCRIPTION:Gran Premio del Giappone Motegi /
LOCATION:Motegi
TRANSP:OPAQUE
DTSTART;VALUE=DATE:20100425
DTEND;VALUE=DATE:20100425
END:VEVENT
END:VCALENDAR