
BEGIN:VCALENDAR
VERSION:2.0
METHOD:PUBLISH
PRODID:SimpleCalendar
BEGIN:VEVENT
UID:@simplecalendar-Le News dei Motocappottati
CATEGORIES:Moto GP Archiviate
CLASS:PUBLIC
DTSTAMP:20140411T162135Z
CREATED:20140411T162135Z
SUMMARY:Gran Premio di Spagna
DESCRIPTION:Gran Premio di Spagna Jerez /
LOCATION:Jerez
TRANSP:OPAQUE
DTSTART;VALUE=DATE:20100502
DTEND;VALUE=DATE:20100502
END:VEVENT
END:VCALENDAR