
BEGIN:VCALENDAR
VERSION:2.0
METHOD:PUBLISH
PRODID:SimpleCalendar
BEGIN:VEVENT
UID:@simplecalendar-Le News dei Motocappottati
CATEGORIES:Moto GP Archiviate
CLASS:PUBLIC
DTSTAMP:20140411T215106Z
CREATED:20140411T215106Z
SUMMARY:Gran premio di Francia
DESCRIPTION:Gran premio di Francia Le Mans /
LOCATION:Le Mans
TRANSP:OPAQUE
DTSTART;VALUE=DATE:20100523
DTEND;VALUE=DATE:20100523
END:VEVENT
END:VCALENDAR