
BEGIN:VCALENDAR
VERSION:2.0
METHOD:PUBLISH
PRODID:SimpleCalendar
BEGIN:VEVENT
UID:@simplecalendar-Le News dei Motocappottati
CATEGORIES:SBK Archiviate
CLASS:PUBLIC
DTSTAMP:20140411T190707Z
CREATED:20140411T190707Z
SUMMARY:Gran premio d'Olanda
DESCRIPTION:Gran premio d'Olanda Assen /
LOCATION:Assen
TRANSP:OPAQUE
DTSTART;VALUE=DATE:20110417
DTEND;VALUE=DATE:20110417
END:VEVENT
END:VCALENDAR