
BEGIN:VCALENDAR
VERSION:2.0
METHOD:PUBLISH
PRODID:SimpleCalendar
BEGIN:VEVENT
UID:@simplecalendar-Le News dei Motocappottati
CATEGORIES:SBK Archiviate
CLASS:PUBLIC
DTSTAMP:20140411T190823Z
CREATED:20140411T190823Z
SUMMARY:Gran premio di Monza
DESCRIPTION:Gran premio di Monza Monza /
LOCATION:Monza
TRANSP:OPAQUE
DTSTART;VALUE=DATE:20110508
DTEND;VALUE=DATE:20110508
END:VEVENT
END:VCALENDAR