
BEGIN:VCALENDAR
VERSION:2.0
METHOD:PUBLISH
PRODID:SimpleCalendar
BEGIN:VEVENT
UID:@simplecalendar-Le News dei Motocappottati
CATEGORIES:SBK Archiviate
CLASS:PUBLIC
DTSTAMP:20140411T190734Z
CREATED:20140411T190734Z
SUMMARY:Gran premio Salt lake City
DESCRIPTION:Gran premio Salt lake City Salt lake city USA /
LOCATION:Salt lake city USA
TRANSP:OPAQUE
DTSTART;VALUE=DATE:20110530
DTEND;VALUE=DATE:20110530
END:VEVENT
END:VCALENDAR