
BEGIN:VCALENDAR
VERSION:2.0
METHOD:PUBLISH
PRODID:SimpleCalendar
BEGIN:VEVENT
UID:@simplecalendar-Le News dei Motocappottati
CATEGORIES:SBK Archiviate
CLASS:PUBLIC
DTSTAMP:20140411T190825Z
CREATED:20140411T190825Z
SUMMARY:Gran premio di San Marino
DESCRIPTION:Gran premio di San Marino Misano /
LOCATION:Misano
TRANSP:OPAQUE
DTSTART;VALUE=DATE:20110612
DTEND;VALUE=DATE:20110612
END:VEVENT
END:VCALENDAR