
BEGIN:VCALENDAR
VERSION:2.0
METHOD:PUBLISH
PRODID:SimpleCalendar
BEGIN:VEVENT
UID:@simplecalendar-Le News dei Motocappottati
CATEGORIES:SBK Archiviate
CLASS:PUBLIC
DTSTAMP:20140411T190448Z
CREATED:20140411T190448Z
SUMMARY:Gran premio della Repubblica Ceca
DESCRIPTION:Gran premio della Repubblica Ceca Brno /
LOCATION:Brno
TRANSP:OPAQUE
DTSTART;VALUE=DATE:20110710
DTEND;VALUE=DATE:20110710
END:VEVENT
END:VCALENDAR