
BEGIN:VCALENDAR
VERSION:2.0
METHOD:PUBLISH
PRODID:SimpleCalendar
BEGIN:VEVENT
UID:@simplecalendar-Le News dei Motocappottati
CATEGORIES:SBK Archiviate
CLASS:PUBLIC
DTSTAMP:20140411T190908Z
CREATED:20140411T190908Z
SUMMARY:Gran premio di Gran Bretagna
DESCRIPTION:Gran premio di Gran Bretagna Silverstone /
LOCATION:Silverstone
TRANSP:OPAQUE
DTSTART;VALUE=DATE:20110731
DTEND;VALUE=DATE:20110731
END:VEVENT
END:VCALENDAR