
BEGIN:VCALENDAR
VERSION:2.0
METHOD:PUBLISH
PRODID:SimpleCalendar
BEGIN:VEVENT
UID:@simplecalendar-Le News dei Motocappottati
CATEGORIES:SBK Archiviate
CLASS:PUBLIC
DTSTAMP:20140411T190646Z
CREATED:20140411T190646Z
SUMMARY:Gran premio d'Italia
DESCRIPTION:Gran premio d'Italia Imola /
LOCATION:Imola
TRANSP:OPAQUE
DTSTART;VALUE=DATE:20110925
DTEND;VALUE=DATE:20110925
END:VEVENT
END:VCALENDAR