
BEGIN:VCALENDAR
VERSION:2.0
METHOD:PUBLISH
PRODID:SimpleCalendar
BEGIN:VEVENT
UID:@simplecalendar-Le News dei Motocappottati
CATEGORIES:SBK Archiviate
CLASS:PUBLIC
DTSTAMP:20140411T190623Z
CREATED:20140411T190623Z
SUMMARY:Gran premio di Francia
DESCRIPTION:Gran premio di Francia Magny Cours /
LOCATION:Magny Cours
TRANSP:OPAQUE
DTSTART;VALUE=DATE:20111002
DTEND;VALUE=DATE:20111002
END:VEVENT
END:VCALENDAR