
BEGIN:VCALENDAR
VERSION:2.0
METHOD:PUBLISH
PRODID:SimpleCalendar
BEGIN:VEVENT
UID:@simplecalendar-Le News dei Motocappottati
CATEGORIES:SBK Archiviate
CLASS:PUBLIC
DTSTAMP:20140411T190855Z
CREATED:20140411T190855Z
SUMMARY:Gran premio del Portogallo
DESCRIPTION:Gran premio del Portogallo Portimao /
LOCATION:Portimao
TRANSP:OPAQUE
DTSTART;VALUE=DATE:20111016
DTEND;VALUE=DATE:20111016
END:VEVENT
END:VCALENDAR