
BEGIN:VCALENDAR
VERSION:2.0
METHOD:PUBLISH
PRODID:SimpleCalendar
BEGIN:VEVENT
UID:@simplecalendar-Le News dei Motocappottati
CATEGORIES:Moto GP Archiviate
CLASS:PUBLIC
DTSTAMP:20140411T083440Z
CREATED:20140411T083440Z
SUMMARY:Gran premio d'Australia Phillip Island
DESCRIPTION:Gran premio d'Australia Phillip Island Phillip Island /
LOCATION:Phillip Island
TRANSP:OPAQUE
DTSTART;VALUE=DATE:20131020
DTEND;VALUE=DATE:20131020
END:VEVENT
END:VCALENDAR