
BEGIN:VCALENDAR
VERSION:2.0
METHOD:PUBLISH
PRODID:SimpleCalendar
BEGIN:VEVENT
UID:@simplecalendar-Le News dei Motocappottati
CATEGORIES:Moto GP Archiviate
CLASS:PUBLIC
DTSTAMP:20140411T083540Z
CREATED:20140411T083540Z
SUMMARY:Gran premio della Malesia Sepang
DESCRIPTION:Gran premio della Malesia Sepang Sepang /
LOCATION:Sepang
TRANSP:OPAQUE
DTSTART;VALUE=DATE:20131013
DTEND;VALUE=DATE:20131013
END:VEVENT
END:VCALENDAR