
BEGIN:VCALENDAR
VERSION:2.0
METHOD:PUBLISH
PRODID:SimpleCalendar
BEGIN:VEVENT
UID:@simplecalendar-Le News dei Motocappottati
CATEGORIES:Moto GP Archiviate
CLASS:PUBLIC
DTSTAMP:20140411T083548Z
CREATED:20140411T083548Z
SUMMARY:Gran premio di Gran Bretagna Silverstone
DESCRIPTION:Gran premio di Gran Bretagna Silverstone Silverstone /
LOCATION:Silverstone
TRANSP:OPAQUE
DTSTART;VALUE=DATE:20130901
DTEND;VALUE=DATE:20130901
END:VEVENT
END:VCALENDAR