
BEGIN:VCALENDAR
VERSION:2.0
METHOD:PUBLISH
PRODID:SimpleCalendar
BEGIN:VEVENT
UID:@simplecalendar-Le News dei Motocappottati
CATEGORIES:Moto GP Archiviate
CLASS:PUBLIC
DTSTAMP:20140411T083726Z
CREATED:20140411T083726Z
SUMMARY:Gran premio della Repubblica Ceca Brno
DESCRIPTION:Gran premio della Repubblica Ceca Brno Brno /
LOCATION:Brno
TRANSP:OPAQUE
DTSTART;VALUE=DATE:20130825
DTEND;VALUE=DATE:20130825
END:VEVENT
END:VCALENDAR