BEGIN:VCALENDAR
VERSION:2.0
METHOD:PUBLISH
PRODID:SimpleCalendar
X-WR-TIMEZONE:Europe/Paris
BEGIN:VEVENT
UID:102@simplecalendar-Le News dei Motocappottati
CATEGORIES:Moto GP Archiviate
CLASS:PUBLIC
DTSTAMP:20140410T180850Z
CREATED:20140410T180850Z
SUMMARY:Gran premio di Valencia
DESCRIPTION:Il circuito di Valencia misura 4.005 Km con un rettilineo di 876 mt e una  netta prevalenza di curve a sinistra, ben 9 rispetto alle 5 opposte, Ã¨ t ra i cinque circuiti che si percorrono in senso antiorario. Risultati g ara: 1	25	99	Jorge LORENZO	SPA	Yamaha Factory Racing	Yamaha	156.1	46â€²10 .302 2	20	26	Dani PEDROSA	SPA	Repsol Honda Team	Honda	155.9	+3.934 3	16	93 	Marc MARQUEZ	SPA	Repsol Honda Team	Honda	155.7	+7.357 4	13	46	Valentino R OSSI	ITA	Yamaha Factory Racing	Yamaha	155.5	+10.579 5	11	19	Alvaro BAUTIST A	SPA	GO&FUN Honda Gresini	Honda	155.2	+14.965 6	10	6	Stefan BRADL	GER 	LCR Honda MotoGP	Honda	154.7	+24.399 7	9	38	Bradley SMITH	GBR	Monster Yam aha Tech 3	Yamaha	154.5	+29.043 8	8	69	Nicky HAYDEN	USA	Ducati Team	Ducati 	153.9	+39.893 9	7	4	Andrea DOVIZIOSO	ITA	Ducati Team	Ducati	153.1	+53.196  10	6	51	Michele PIRRO	ITA	Ducati Test Team	Ducati	152.6	+1â€²02.983 11	5	 41	Aleix ESPARGARO	SPA	Power Electronics Aspar	ART	152.5	+1â€²04.197 12	4	 8	Hector BARBERA	SPA	Avintia Blusens	FTR	152.4	+1â€²06.826 13	3	71	Claudio  CORTI	ITA	NGM Mobile Forward Racing	FTR Kawasaki	152.2	+1â€²11.481 14	2	9 	Danilo PETRUCCI	ITA	Came IodaRacing Project	Ioda-Suter	152.0	+1â€²13.643  15	1	5	Colin EDWARDS	USA	NGM Mobile Forward Racing	FTR Kawasaki	151.5	+1â€ ²24.249 16		7	Hiroshi AOYAMA	JPN	Avintia Blusens	FTR	151.0	+1â€²33.010 17	 	70	Michael LAVERTY	GBR	Paul Bird Motorsport	ART	150.3	1 Lap 18		23	Luca S CASSA	ITA	Cardion AB Motoracing	ART	150.2	1 Lap 19		67	Bryan STARING	AUS	G O&FUN Honda Gresini	FTR Honda	150.2	1 Lap 20		45	Martin BAUER	AUT	Remu s Racing Team	S&B Suter	147.7	1 Lap Non Classificato 29	Andrea IANNONE 	ITA	Energy T.I. Pramac Racing	Ducati	153.3	4 Laps 14	Randy DE PUNIET	FRA	 Power Electronics Aspar	ART	150.7	7 Laps 35	Cal CRUTCHLOW	GBR	Monster Yama ha Tech 3	Yamaha	154.4	21 Laps 68	Yonny HERNANDEZ	COL	Ignite Pramac Racing 	Ducati	147.9	22 Laps 52	Lukas PESEK	CZE	Came IodaRacing Project	Ioda-Sute r	146.4	27 Laps 50	Damian CUDLIN	AUS	Paul Bird Motorsport	PBM	145.0	27 Lap s Complimenti al nuovo campione del Mondo "Mark Marquez"
LOCATION:Ricardo Tormo
LAST-MODIFIED:20131122T152058Z
TRANSP:OPAQUE
DTSTART;VALUE=DATE:20131110
DTEND;VALUE=DATE:20131110
END:VEVENT
BEGIN:VEVENT
UID:103@simplecalendar-Le News dei Motocappottati
CATEGORIES:Moto GP Archiviate
CLASS:PUBLIC
DTSTAMP:20140410T180850Z
CREATED:20140410T180850Z
SUMMARY:Gran Premio del Giappone Motegi
DESCRIPTION:Motegi , in Giappone la casa di ben quattro produttori di Moto al mondo H onda, Kawasaky,Yamaha, e Suzuky. Ãˆ denominato ufficialmente Twin Ring Mo tegi poichÃ© all'interno della stessa struttura ospita due circuiti divers i, un ovale da 2.493 m e un percorso stradale da 4.801 m con 3 differenti  layout. Risultati gara: 1 Jorge LORENZO Yamaha 42â€™34.291 2 Marc MARQ UEZ Honda 3.188 3 Dani PEDROSA Honda 4.592 4 Alvaro BAUTISTA Honda 19.755  5 Stefan BRADL Honda 22.810 6 Valentino ROSSI Yamaha 24.637 7 Cal CRUTCHLO W Yamaha 27.496 8 Bradley SMITH Yamaha 30.969 9 Nicky HAYDEN Ducati 37.010  10 Andrea DOVIZIOSO Ducati 42.944 11 Katsuyuki NAKASUGA Yamaha 53.345 12  Colin EDWARDS FTR Kawasaki +1â€™03.213 13 Randy DE PUNIET ART +1â€™06.840  14 Andrea IANNONE Ducati +1â€™08.218 15 Yonny HERNANDEZ Ducati +1â€™18.240  16 Hector BARBERA FTR +1â€™19.108 17 Hiroshi AOYAMA FTR +1â€™21.174 18 Da nilo PETRUCCI Ioda-Suter +1â€™30.546 19 Michael LAVERTY ART +2â€™23.358 20  Claudio CORTI FTR Kawasaki 1 Giro 21 Damian CUDLIN PBM 1 Giro 22 Bryan ST ARING FTR Honda 1 Giro
LOCATION:Motegi
LAST-MODIFIED:20131122T151952Z
TRANSP:OPAQUE
DTSTART;VALUE=DATE:20131027
DTEND;VALUE=DATE:20131027
END:VEVENT
BEGIN:VEVENT
UID:104@simplecalendar-Le News dei Motocappottati
CATEGORIES:Moto GP Archiviate
CLASS:PUBLIC
DTSTAMP:20140410T180850Z
CREATED:20140410T180850Z
SUMMARY:Gran premio d'Australia Phillip Island
DESCRIPTION:Costruito nel 1956 il circuito di Phillip Island Ã¨ situato nella regione  di Victoria in Australia e dal 1997 Ã¨ lo scenario di splendide gare di m otociclismo. Il circuito Ã¨ splendido, una serpentina di curve veloci e d i raggio molto ampio spezzate solamente da due tornanti che rappresentano  i punti perfetti per effettuare sorpassi. Lungo 4.448 mt e largo 13 mt, p resenta 5 curve a destra e 7 a sinistra ed il suo rettilineo principale Ã¨  di 900 mt in discesa, caratteristica che permette di raggiungere velocitÃ   molto elevate. Risultati gara: Â  Pos.PuntiNum.PilotaNazione TeamMotoKm/hData e ora/Distanza 1 25 99 Jorge LORENZO SPA Y amaha Factory Racing Yamaha 174.1 29'07.155 2 20 26 Dani PEDROS A SPA Repsol Honda Team Honda 173.4 +6.936 3 16 46 Valentino  ROSSI ITA Yamaha Factory Racing Yamaha 172.9 +12.344 4 13 35 Cal CRUTCHLOW GBR Monster Yamaha Tech 3 Yamaha 172.9 +12.460 5 11 19 Alvaro BAUTISTA SPA GO&FUN Honda Gresini Honda 172.8 +12. 513 6 10 38 Bradley SMITH GBR Monster Yamaha Tech 3 Yamaha 171 .3 +28.263 7 9 69 Nicky HAYDEN USA Ducati Team Ducati 170.9 +32.953 8 8 29 Andrea IANNONE ITA Energy T.I. Pramac Racing Duc ati 170.7 +35.062 9 7 4 Andrea DOVIZIOSO ITA Ducati Team Duca ti 170.7 +35.104 10 6 14 Randy DE PUNIET FRA Power Electronics  Aspar ART 170.4 +37.426 11 5 41 Aleix ESPARGARO SPA Power El ectronics Aspar ART 169.6 +46.099 12 4 5 Colin EDWARDS USA NG M Mobile Forward Racing FTR Kawasaki 169.4 +48.149 13 3 68 Yonn y HERNANDEZ COL Ignite Pramac Racing Ducati 169.2 +49.911 14 2 8 Hector BARBERA SPA Avintia Blusens FTR 169.2 +49.998 15 1 9 Danilo PETRUCCI ITA Came IodaRacing Project Ioda-Suter 168.4 +58.7 18 16 23 Luca SCASSA ITA Cardion AB Motoracing ART 168.4 +58 .791 17 71 Claudio CORTI ITA NGM Mobile Forward Racing FTR Kaw asaki 167.6 +1'08.105 18 70 Michael LAVERTY GBR Paul Bird Mot orsport ART 165.8 +1'27.230 19 52 Lukas PESEK CZE Came IodaR acing Project Ioda-Suter 165.5 +1'31.093 20 7 Hiroshi AOYAMA JPN Avintia Blusens FTR 162.5 1 Giro 21 50 Damian CUDLIN AUS  Paul Bird Motorsport PBM 146.9 2 Giri Escluso 67 Bryan  STARING AUS GO&FUN Honda Gresini FTR Honda 0 Giro 93 Marc MARQUEZ SPA Repsol Honda Team Honda 0 Giro
LOCATION:Phillip Island
LAST-MODIFIED:20131020T155633Z
TRANSP:OPAQUE
DTSTART;VALUE=DATE:20131020
DTEND;VALUE=DATE:20131020
END:VEVENT
BEGIN:VEVENT
UID:105@simplecalendar-Le News dei Motocappottati
CATEGORIES:Moto GP Archiviate
CLASS:PUBLIC
DTSTAMP:20140410T180850Z
CREATED:20140410T180850Z
SUMMARY:Gran premio della Malesia Sepang
DESCRIPTION:Sepang Ã¨ un circuito molto recente, costruito nel 1999 con le tecnologie  piÃ¹ allâ€™avanguardia Ã¨ tuttâ€™ora considerato un modello di riferiment o per tutti i nuovi circuiti. Le tribune ampie e funzionali, aree di servi zio tra le piÃ¹ curate rendono il circuito Malesiano tra i piÃ¹ belli del  moto mondiale.Lungo 5.548 metri con 10 curve a destra e 5 a sinistra, la c aratteristica di Sepang sono i due rettilinei molto larghi uniti tra di lo ro da un lentissimo tornante nel quale i piloti piÃ¹ abili con le staccate  possono tentare di sorpassare. Risultati gara: Â  Pos.PuntiNu m.PilotaNazioneTeamMotoKm/hData e ora/Distanza 1 25 26 Dani P EDROSA SPA Repsol Honda Team Honda 163.3 40'45.191 2 20 93 Ma rc MARQUEZ SPA Repsol Honda Team Honda 163.1 +2.757 3 16 99 J orge LORENZO SPA Yamaha Factory Racing Yamaha 162.9 +6.669 4 13  46 Valentino ROSSI ITA Yamaha Factory Racing Yamaha 162.6 +10.351 5 11 19 Alvaro BAUTISTA SPA GO&FUN Honda Gresini Honda 161 .8 +22.149 6 10 35 Cal CRUTCHLOW GBR Monster Yamaha Tech 3 Yam aha 161.8 +22.301 7 9 38 Bradley SMITH GBR Monster Yamaha Tech  3 Yamaha 161.3 +30.864 8 8 4 Andrea DOVIZIOSO ITA Ducati Tea m Ducati 160.4 +45.111 9 7 41 Aleix ESPARGARO SPA Power Elect ronics Aspar ART 159.4 +59.264 10 6 68 Yonny HERNANDEZ COL Ig nite Pramac Racing Ducati 159.3 +1'01.417 11 5 7 Hiroshi AOYAMA  JPN Avintia Blusens FTR 159.2 +1'03.665 12 4 14 Randy DE PUN IET FRA Power Electronics Aspar ART 158.5 +1'14.256 13 3 71 C laudio CORTI ITA NGM Mobile Forward Racing FTR Kawasaki 158.0 +1'21.6 03 14 2 8 Hector BARBERA SPA Avintia Blusens FTR 157.6 +1'27. 976 15 1 5 Colin EDWARDS USA NGM Mobile Forward Racing FTR Kawa saki 157.5 +1'29.442 16 9 Danilo PETRUCCI ITA Came IodaRacing  Project Ioda-Suter 157.5 +1'29.551 17 23 Luca SCASSA ITA Ca rdion AB Motoracing ART 156.4 +1'47.930 18 67 Bryan STARING A US GO&FUN Honda Gresini FTR Honda 156.1 +1'52.927 Non classif icato 70 Michael LAVERTY GBR Paul Bird Motorsport ART 155.0 8 Giri 52 Lukas PESEK CZE Came IodaRacing Project Ioda-Suter  154.2 9 Giri 69 Nicky HAYDEN USA Ducati Team Ducati 159.1  12 Giri 50 Damian CUDLIN AUS Paul Bird Motorsport PBM 153. 4 13 Giri 29 Andrea IANNONE ITA Energy T.I. Pramac Racing Du cati 160.5 14 Giri
LOCATION:Sepang
LAST-MODIFIED:20131020T155423Z
TRANSP:OPAQUE
DTSTART;VALUE=DATE:20131013
DTEND;VALUE=DATE:20131013
END:VEVENT
BEGIN:VEVENT
UID:106@simplecalendar-Le News dei Motocappottati
CATEGORIES:Moto GP Archiviate
CLASS:PUBLIC
DTSTAMP:20140410T180850Z
CREATED:20140410T180850Z
SUMMARY:Gran premio d'Aragona Aragon
DESCRIPTION:Motorland Aragon Il circuito presenta una lunghezza di 5.345m e una larg hezza che va dai  12 ai 15 metri. Occupa una superficie de 1.320.00m2 e co nta con un  rettilineo principale di 1.726m che lo converte in una referen za  internazionale per la realizzazione di prove di aerodinamica. Nella  v ariante utilizzata questo fine settimana per la MotoGP, la variante F  di  5.070 m., il rettilineo piÃ¹ lungo Ã¨ di 1.326 m, anche se il  rettilineo  del traguardo  presenta solo 630 m e una prima curva di 90  gradi. Risu ltati gara: Â  1 25 93 Marc MARQUEZ SPA Repsol Honda Team Ho nda 166.6 42'03.459 2 20 99 Jorge LORENZO SPA Yamaha Factory R acing Yamaha 166.5 +1.356 3 16 46 Valentino ROSSI ITA Yamaha  Factory Racing Yamaha 165.7 +12.927 4 13 19 Alvaro BAUTISTA SP A GO&FUN Honda Gresini Honda 165.7 +13.787 5 11 6 Stefan B RADL GER LCR Honda MotoGP Honda 165.7 +13.973 6 10 35 Cal CRU TCHLOW GBR Monster Yamaha Tech 3 Yamaha 165.6 +14.662 7 9 38 Bradley SMITH GBR Monster Yamaha Tech 3 Yamaha 164.5 +31.220 8 8 4 Andrea DOVIZIOSO ITA Ducati Team Ducati 163.9 +40.671 9 7  69 Nicky HAYDEN USA Ducati Team Ducati 163.1 +53.413 10 6 2 9 Andrea IANNONE ITA Energy T.I. Pramac Racing Ducati 163.0 +55.067 11 5 41 Aleix ESPARGARO SPA Power Electronics Aspar ART 162.8 +58.001 12 4 68 Yonny HERNANDEZ COL Ignite Pramac Racing Ducat i 162.4 +1'05.513 13 3 14 Randy DE PUNIET FRA Power Electronic s Aspar ART 162.3 +1'06.589 14 2 7 Hiroshi AOYAMA JPN Avintia  Blusens FTR 162.2 +1'08.674 15 1 71 Claudio CORTI ITA NGM Mo bile Forward Racing FTR Kawasaki 162.1 +1'09.130 16 5 Colin ED WARDS USA NGM Mobile Forward Racing FTR Kawasaki 161.9 +1'12.041 17 23 Luca SCASSA ITA Cardion AB Motoracing ART 159.9 +1'45.152 18 67 Bryan STARING AUS GO&FUN Honda Gresini FTR Honda 15 9.9 +1'45.228 19 52 Lukas PESEK CZE Came IodaRacing Project I oda-Suter 159.9 +1'45.583 Non classificato 8 Hector BARBE RA SPA Avintia Blusens FTR 157.8 15 Giri 26 Dani PEDROSA S PA Repsol Honda Team Honda 166.7 18 Giri 50 Damian CUDLIN A US Paul Bird Motorsport PBM 152.2 20 Giri 9 Danilo PETRUCCI ITA Came IodaRacing Project Ioda-Suter 0 Giro 70 Michael L AVERTY GBR Paul Bird Motorsport ART 0 Giro
LOCATION:Aragon
LAST-MODIFIED:20131005T114929Z
TRANSP:OPAQUE
DTSTART;VALUE=DATE:20130929
DTEND;VALUE=DATE:20130929
END:VEVENT
BEGIN:VEVENT
UID:107@simplecalendar-Le News dei Motocappottati
CATEGORIES:Moto GP Archiviate
CLASS:PUBLIC
DTSTAMP:20140410T180850Z
CREATED:20140410T180850Z
SUMMARY:Gran premio di San Marino & Riviera di Rimini M Simoncelli
DESCRIPTION:San Marino & Riviera di Rimini - Misano Marco Simoncelli Misano Ã¨ l a pista di casa di praticamente metÃ  dei piloti italiani , misura 4180 me tri per una larghezza di 14, con 8 curve a destra e 5 a sinistra. Risul tati gara: Â  1 25 99 Jorge LORENZO SPA Yamaha Factory Racing  Yamaha 161.0 44'05.522 2 20 93 Marc MARQUEZ SPA Repsol Honda  Team Honda 160.8 +3.379 3 16 26 Dani PEDROSA SPA Repsol Hond a Team Honda 160.5 +7.368 4 13 46 Valentino ROSSI ITA Yamaha  Factory Racing Yamaha 160.1 +15.062 5 11 6 Stefan BRADL GER L CR Honda MotoGP Honda 159.6 +22.355 6 10 35 Cal CRUTCHLOW GBR Monster Yamaha Tech 3 Yamaha 159.6 +22.599 7 9 19 Alvaro BAUTI STA SPA GO&FUN Honda Gresini Honda 159.1 +31.059 8 8 4 An drea DOVIZIOSO ITA Ducati Team Ducati 158.4 +42.702 9 7 69 Ni cky HAYDEN USA Ducati Team Ducati 158.3 +44.858 10 6 51 Miche le PIRRO ITA Ignite Pramac Racing Ducati 158.1 +47.818 11 5 38  Bradley SMITH GBR Monster Yamaha Tech 3 Yamaha 158.1 +48.011 1 2 4 5 Colin EDWARDS USA NGM Mobile Forward Racing FTR Kawasaki 157. 2 +1'03.154 13 3 41 Aleix ESPARGARO SPA Power Electronics Aspar  ART 157.0 +1'07.600 14 2 7 Hiroshi AOYAMA JPN Avintia Blusen s FTR 156.5 +1'15.528 15 1 9 Danilo PETRUCCI ITA Came IodaRac ing Project Ioda-Suter 156.4 +1'17.907 16 71 Claudio CORTI IT A NGM Mobile Forward Racing FTR Kawasaki 155.7 +1'29.655 17 14  Randy DE PUNIET FRA Power Electronics Aspar ART 155.4 +1'33.990 18 70 Michael LAVERTY GBR Paul Bird Motorsport PBM 155.3 +1'36. 860 Non classificato 67 Bryan STARING AUS GO&FUN  Honda Gresini FTR Honda 153.8 4 Giri 8 Hector BARBERA SPA A vintia Blusens FTR 155.6 7 Giri 68 Yonny HERNANDEZ COL Paul  Bird Motorsport ART 153.7 19 Giri 17 Karel ABRAHAM CZE Car dion AB Motoracing ART 152.2 21 Giri 29 Andrea IANNONE ITA Energy T.I. Pramac Racing Ducati 155.6 25 Giri 52 Lukas PESEK  CZE Came IodaRacing Project Ioda-Suter 148.0 25 Giri
LOCATION:Misano
LAST-MODIFIED:20131005T114734Z
TRANSP:OPAQUE
DTSTART;VALUE=DATE:20130915
DTEND;VALUE=DATE:20130915
END:VEVENT
BEGIN:VEVENT
UID:108@simplecalendar-Le News dei Motocappottati
CATEGORIES:Moto GP Archiviate
CLASS:PUBLIC
DTSTAMP:20140410T180850Z
CREATED:20140410T180850Z
SUMMARY:Gran premio di Gran Bretagna Silverstone
DESCRIPTION:Silverstone Ã¨ un nome che giÃ  da solo evoca tutta la storia di tutti i  comparti motorisitici, ricavato da un vecchio aeroporto Ordine d'arriv o: 1 LORENZO J. Yamaha Factory RacingL ap 20 2 MARQUEZ M. Repsol Honda T eam +0.081 3 PEDROSA D. Repsol Honda Team +1.551 4 ROSSI V. Yamaha Facto ry Racing +13.233 5 BAUTISTA A. GO&FUN Honda Gresini +13.298 6 BRADL  S. LCR Honda MotoGP +20.227 7 CRUTCHLOW C. Monster Yamaha Tech 3 +26.299  8 HAYDEN N. Ducati Team +35.993 9 SMITH B. Monster Yamaha Tech 3 +36.11 9 10 ESPARGARO A. Power Electronics Aspar +53.196 11 IANNONE A. Energy T .I. Pramac Racing +59.058 12 PIRRO M. Ignite Pramac Racing +1:00.710 13  BARBERA H. Avintia Blusens +1:01.690
LOCATION:Silverstone
LAST-MODIFIED:20130909T211632Z
TRANSP:OPAQUE
DTSTART;VALUE=DATE:20130901
DTEND;VALUE=DATE:20130901
END:VEVENT
BEGIN:VEVENT
UID:109@simplecalendar-Le News dei Motocappottati
CATEGORIES:Moto GP Archiviate
CLASS:PUBLIC
DTSTAMP:20140410T180850Z
CREATED:20140410T180850Z
SUMMARY:Gran premio della Repubblica Ceca Brno
DESCRIPTION:Brno Repubblica Ceca Ã¨ un circuito tra i piÃ¹ belli di tutto il motomon diale, presenta 8 curve a destra e 6 a sinistra con un rettilineo di 636 m  per una lunghezza totale di 5403 m. ORDINE DI ARRIVO DEL GRAN PREMIO D ELLA REPUBBLICA CECA: 1. Marc Marquez ESP Repsol Honda Team (RC213V) 42m  50.729s2. Dani Pedrosa ESP Repsol Honda Team (RC213V) 42m 51.042s3. Jorge  Lorenzo ESP Yamaha Factory Racing (YZR-M1) 42m 53.006s4. Valentino Rossi I TA Yamaha Factory Racing (YZR-M1) 43m 0.830s5. Alvaro Bautista ESP Go& Fun Honda Gresini (RC213V) 43m 0.907s6. Stefan Bradl GER LCR Honda MotoGP  (RC213V) 43m 10.536s7. Andrea Dovizioso ITA Ducati Team (GP13) 43m 25.744s 8. Nicky Hayden USA Ducati Team (GP13) 43m 26.083s9. Andrea Iannone ITA En ergy T.I. Pramac Racing (GP13) 43m 41.878s10. Aleix Espargaro ESP Power El ectronics Aspar (ART CRT) 43m 47.121s11. Colin Edwards USA NGM Forward Rac ing (FTR-Kawasaki CRT)* 43m 48.149s12. Michele Pirro ITA Ignite Pramac Rac ing (GP13) 43m 56.159s13. Danilo Petrucci ITA Came IodaRacing Project (Sut er-BMW CRT)* 44m 3.093s14. Hiroshi Aoyama JPN Avintia Blusens (FTR-Kawasak i CRT)* 44m 4.229s15. Randy De Puniet FRA Power Electronics Aspar (ART CRT ) 44m 4.857s16. Yonny Hernandez COL Paul Bird Motorsport (ART CRT) 44m 5.7 20s17. Cal Crutchlow GBR Monster Yamaha Tech 3 (YZR-M1) 44m 11.369s18. Mic hael Laverty GBR Paul Bird Motorsport (PBM-ART CRT)* 44m 25.191s19. Karel  Abraham CZE Cardion AB Motoracing (ART CRT) 44m 40.442s20. Bryan Staring A US Go&Fun Honda Gresini (FTR-Honda CRT) 44m 40.753s21. Martin Bauer AU T Remus Racing Team (S&B Suter-BMW CRT) 44m 38.367s
LOCATION:Brno
LAST-MODIFIED:20130909T211501Z
TRANSP:OPAQUE
DTSTART;VALUE=DATE:20130825
DTEND;VALUE=DATE:20130825
END:VEVENT
BEGIN:VEVENT
UID:110@simplecalendar-Le News dei Motocappottati
CATEGORIES:Moto GP Archiviate
CLASS:PUBLIC
DTSTAMP:20140410T180850Z
CREATED:20140410T180850Z
SUMMARY:Gran premio degli Stati Uniti Indianapolis
DESCRIPTION:Indianapolis U.S.A tracciato di Indianapolis presenta una lunghezza di 4 216 mt con una prevalenza di curve sinistra, ben 10 contro le 6 a destra;  presenta un rettilineo mediamente lungo di circa 644 metri. ORDINE DI A RRIVO DEL GP DI INDIANAPOLIS: 1. Marc Marquez ESP Repsol Honda Team (RC21 3V) 44m 52.463s2. Dani Pedrosa ESP Repsol Honda Team (RC213V) 44m 55.958s3 . Jorge Lorenzo ESP Yamaha Factory Racing (YZR-M1) 44m 58.167s4. Valentino  Rossi ITA Yamaha Factory Racing (YZR-M1) 45m 12.358s5. Cal Crutchlow GBR  Monster Yamaha Tech 3 (YZR-M1) 45m 12.418s6. Alvaro Bautista ESP Go&Fu n Honda Gresini (RC213V) 45m 12.524s7. Stefan Bradl GER LCR Honda MotoGP ( RC213V) 45m 17.305s8. Bradley Smith GBR Monster Yamaha Tech 3 (YZR-M1) 45m  33.153s9. Nicky Hayden USA Ducati Team (GP13) 45m 33.164s10. Andrea Doviz ioso ITA Ducati Team (GP13) 45m 33.286s11. Andrea Iannone ITA Energy T.I.  Pramac Racing (GP13) 45m 52.131s12. Aleix Espargaro ESP Power Electronics  Aspar (ART CRT) 45m 59.113s13. Colin Edwards USA NGM Forward Racing (FTR-K awasaki CRT)* 46m 1.925s14. Claudio Corti ITA NGM Forward Racing (FTR-Kawa saki CRT)* 46m 7.670s15. Hiroshi Aoyama JPN Avintia Blusens (FTR-Kawasaki  CRT)* 46m 12.622s16. Hector Barbera ESP Avintia Blusens (FTR-Kawasaki CRT) * 46m 18.342s17. Danilo Petrucci ITA Came IodaRacing Project (Suter-BMW CR T)* 46m 22.079s18. Michael Laverty GBR Paul Bird Motorsport (PBM-ART CRT)*  46m 28.851s19. Bryan Staring AUS Go&Fun Honda Gresini (FTR-Honda CRT)  +1 lapYonny Hernandez COL Paul Bird Motorsport (ART CRT) DNFLukas Pesek C ZE Came IodaRacing Project (Suter-BMW CRT)* DNFRandy De Puniet FRA Power E lectronics Aspar (ART CRT) DNFBlake Young USA Attack Performance Racing (A PR-Kawasaki CRT) DNF
LOCATION:Indianapolis
LAST-MODIFIED:20130909T211205Z
TRANSP:OPAQUE
DTSTART;VALUE=DATE:20130818
DTEND;VALUE=DATE:20130818
END:VEVENT
BEGIN:VEVENT
UID:111@simplecalendar-Le News dei Motocappottati
CATEGORIES:Moto GP Archiviate
CLASS:PUBLIC
DTSTAMP:20140410T180850Z
CREATED:20140410T180850Z
SUMMARY:Gran premio degli Stati Uniti Laguna Seca
DESCRIPTION:Laguna seca U.S.A Laguna Seca, chi non ricorda la mitica impresa di Vale ntino alla mitica curva â€œcavatappiâ€œ. Il circuito ha una lunghezza com plessiva di 3610 metri con 7 curve a sinistra e 4 a destra. Il rettilineo  principale non Ã¨ molto lungo, circa 966 metri nei quali si raggiungono ve locitÃ  di circa 270 km/h. Risultati gara: 1 Marc MARQUEZ SPA Repsol H onda Team Honda 157.4 44'00.6952 Stefan BRADL GER LCR Honda MotoGP Honda 1 57.3 +2.2983 Valentino ROSSI ITA Yamaha Factory Racing Yamaha 157.2 +4.498 4 Alvaro BAUTISTA SPA GO&FUN Honda Gresini Honda 157.2 +4.5575 Dani PE DROSA SPA Repsol Honda Team Honda 156.9 +9.2576 Jorge LORENZO SPA Yamaha F actory Racing Yamaha 156.7 +12.9707 Cal CRUTCHLOW GBR Monster Yamaha Tech  3 Yamaha 156.5 +15.3048 Nicky HAYDEN USA Ducati Team Ducati 155.4 +33.9639  Andrea DOVIZIOSO ITA Ducati Team Ducati 155.4 +34.12910 Hector BARBERA SP A Avintia Blusens FTR 153.8 +1'02.36911 Alex DE ANGELIS RSM Ignite Pramac  Racing Ducati 153.8 +1'02.60412 Colin EDWARDS USA NGM Mobile Forward Racin g FTR Kawasaki 153.7 +1'03.59313 Danilo PETRUCCI ITA Came IodaRacing Proje ct Ioda-Suter 152.8 +1'20.45014 Karel ABRAHAM CZE Cardion AB Motoracing AR T 152.2 1 Giro15 Yonny HERNANDEZ COL Paul Bird Motorsport ART 151.6 1 Giro 16 Hiroshi AOYAMA JPN Avintia Blusens FTR 151.6 1 Giro17 Bryan STARING AUS  GO&FUN Honda Gresini FTR Honda 151.1 1 Giro18 Lukas PESEK CZE Came Io daRacing Project Ioda-Suter 148.8 1 Giro Classifica Piloti 1 Marc MARQUE Z Honda SPA 1632 Dani PEDROSA Honda SPA 1473 Jorge LORENZO Yamaha SPA 1374  Valentino ROSSI Yamaha ITA 1175 Cal CRUTCHLOW Yamaha GBR 1166 Stefan BRAD L Honda GER 84
LOCATION:Laguna Seca
LAST-MODIFIED:20130731T193145Z
TRANSP:OPAQUE
DTSTART;VALUE=DATE:20130721
DTEND;VALUE=DATE:20130721
END:VEVENT
END:VCALENDAR