
BEGIN:VCALENDAR
VERSION:2.0
METHOD:PUBLISH
PRODID:SimpleCalendar
BEGIN:VEVENT
UID:@simplecalendar-Le News dei Motocappottati
CATEGORIES:Moto GP
CLASS:PUBLIC
DTSTAMP:20140411T190019Z
CREATED:20140411T190019Z
SUMMARY:Gran premio di Francia Le Mans
DESCRIPTION:Gran premio di Francia Le Mans Le Mans /
LOCATION:Le Mans
TRANSP:OPAQUE
DTSTART;VALUE=DATE:20140518
DTEND;VALUE=DATE:20140518
END:VEVENT
END:VCALENDAR